BEGIN:VCALENDAR
VERSION:2.0
PRODID:-//CDK-F - ECPv6.15.20//NONSGML v1.0//EN
CALSCALE:GREGORIAN
METHOD:PUBLISH
X-ORIGINAL-URL:https://cdkf.fr
X-WR-CALDESC:Évènements pour CDK-F
REFRESH-INTERVAL;VALUE=DURATION:PT1H
X-Robots-Tag:noindex
X-PUBLISHED-TTL:PT1H
BEGIN:VTIMEZONE
TZID:Europe/Paris
BEGIN:DAYLIGHT
TZOFFSETFROM:+0100
TZOFFSETTO:+0200
TZNAME:CEST
DTSTART:20250330T010000
END:DAYLIGHT
BEGIN:STANDARD
TZOFFSETFROM:+0200
TZOFFSETTO:+0100
TZNAME:CET
DTSTART:20251026T010000
END:STANDARD
BEGIN:DAYLIGHT
TZOFFSETFROM:+0100
TZOFFSETTO:+0200
TZNAME:CEST
DTSTART:20260329T010000
END:DAYLIGHT
BEGIN:STANDARD
TZOFFSETFROM:+0200
TZOFFSETTO:+0100
TZNAME:CET
DTSTART:20261025T010000
END:STANDARD
BEGIN:DAYLIGHT
TZOFFSETFROM:+0100
TZOFFSETTO:+0200
TZNAME:CEST
DTSTART:20270328T010000
END:DAYLIGHT
BEGIN:STANDARD
TZOFFSETFROM:+0200
TZOFFSETTO:+0100
TZNAME:CET
DTSTART:20271031T010000
END:STANDARD
END:VTIMEZONE
BEGIN:VEVENT
DTSTART;TZID=Europe/Paris:20260531T180000
DTEND;TZID=Europe/Paris:20260531T213000
DTSTAMP:20260424T180705
CREATED:20260424T071347Z
LAST-MODIFIED:20260424T075225Z
UID:10000096-1780250400-1780263000@cdkf.fr
SUMMARY:Concert de clôture avec Murad Demir\, Ișik Berfîn et Ulaș Kelașîn
DESCRIPTION:Le concert de clôture viendra couronner le Festival\, réunissant des artistes kurdes aux répertoires variés\, parmi les plus reconnus de la scène actuelle. \nPortée par les univers de Murad Demir\, Işık Berfîn et Ulaş Kelaşîn\, cette soirée mettra en lumière la richesse et la diversité du répertoire kurde. Entre chants traditionnels\, compositions contemporaines et influences variées\, les artistes proposeront un voyage musical où se croisent héritage ancestral et expressions actuelles\, révélant toute la vitalité d’une culture en mouvement. \n– – – – – – – – – \nMurad Demir est un auteur-compositeur-interprète kurde originaire de Colemêrg (Hakkari). Il s’inscrit dans une démarche artistique profondément ancrée dans la musique populaire de sa région\, qu’il revisite et transmet avec une sensibilité contemporaine. \nSa première interprétation notable\, Hoy Nermê\, s’inscrit dans le registre des chants traditionnels anonymes. Il enchaîne ensuite avec Rez\, dont les paroles sont issues de son héritage familial. Son premier album\, Zê\, est composé de neuf titres\, dont une majorité écrite et composée par lui-même.  \nÀ travers son œuvre\, Murat Demir s’impose comme une figure engagée dans la transmission et la modernisation du patrimoine musical kurde. \n– – – – – – – – – \nIşık Berfîn a grandi à San Francisco\, en Californie. Issue d’une identité culturelle riche\, mêlant héritages zazaki et azéri\, elle développe très tôt un lien profond avec la musique. \nDès l’âge de six ans\, elle se produit sur des scènes internationales aux côtés de sa mère\, Özden Öztoprak\, participant à de nombreux festivals de musiques du monde. Cette immersion précoce lui permet d’acquérir une expérience artistique rare et une ouverture musicale internationale. \nProfondément attachée à ses racines du Dersim\, Işık Berfîn nourrit son travail artistique à travers les répertoires en zazaki et en kurmancî. Elle collabore régulièrement avec des musiciens venus du monde entier\, construisant un univers musical à la croisée des cultures et des traditions. \n– – – – – – – – – \nUlaş Kelaşîn est un artiste kurde actif sur la scène musicale contemporaine\, notamment à travers les plateformes numériques et les événements culturels.  \nIl s’est fait connaître avec la sortie de son album Xem en 2019\, qui réunit plusieurs titres diffusés auprès du public kurde\, dont Kejê\, Fedayine\, Qerîn\, Şîrîne Canê et Solîn.  \nBien implanté sur la scène musicale kurde en France\, notamment lors d’événements culturels et de célébrations comme le Newroz\, Ulaş Kelaşîn développe progressivement sa visibilité artistique\, affirmant sa place dans la musique kurde contemporaine.
URL:https://cdkf.fr/evenement/concert-de-cloture-avec-murad-demir-isik-berfin-et-ulas-kelasin/
LOCATION:Théatre du Gymnase\, 38 bd de Bonne Nouvelle\, Paris\, 75010
CATEGORIES:Festival 2026
ATTACH;FMTTYPE=image/png:https://cdkf.fr/wp-content/uploads/2026/04/Design-sans-titre-2.png
END:VEVENT
END:VCALENDAR